BEGIN:VCALENDAR
VERSION:2.0
PRODID:-//eventon.com NONSGML v1.0//EN
BEGIN:VEVENT
UID:69e737648bd68
DTSTAMP:20260421T103756
DTSTART:20230402
DTEND:20230407
TZID:Europe/Berlin
LOCATION:Universitätsmedizin Göttingen (UMG) Robert-Koch-Str. 40
SUMMARY:Hertha Sponer College Course
DESCRIPTION: HSC Advance Methods Course &#8220;Induced pluripotent stem cell culture&#8221; In this course\,  you will learn how to culture induced pluripotent stem cells in a feeder free environment. You will learn how to passage cells with mild EDTA solution and how to stain and assess cell pluripotency by flow cytometry analysis.[..]\nhttps://mbexc.de/events/hertha-sponer-college-course-6/
URL:https://mbexc.de/events/hertha-sponer-college-course-6/
END:VEVENT
END:VCALENDAR