BEGIN:VCALENDAR
VERSION:2.0
PRODID:-//eventon.com NONSGML v1.0//EN
BEGIN:VEVENT
UID:69ea54e41fa95
DTSTAMP:20260423T192036
DTSTART:20220615T070000Z
DTEND:20220615T080000Z
TZID:Europe/Berlin
LOCATION:Max Planck Institute for Multidisciplinary Sciences\,  City Campus Hermann-Rein-Str. 3
SUMMARY:MBExC/SFB1286 Lecture
DESCRIPTION: Prof. Kristen M. Harris\,  PhD from the Department of Neuroscience\,  Center for Learning and Memory\,  Institute for Neuroscience at the University of Texas\,  Austin will talk about &#8220;Ready for synaptic plasticity&#8221;. Nascent zones are portions of the postsynaptic density that have no presynaptic vesicles aggregated at them. They are dynamic[..]\nhttps://mbexc.de/events/mbexc-lecture-3/
URL:https://mbexc.de/events/mbexc-lecture-3/
END:VEVENT
END:VCALENDAR