BEGIN:VCALENDAR
VERSION:2.0
PRODID:-//eventon.com NONSGML v1.0//EN
BEGIN:VEVENT
UID:69e7fe7a76abf
DTSTAMP:20260422T004722
DTSTART:20210121T091500Z
DTEND:20210121T101500Z
TZID:Europe/Berlin
LOCATION:Online 
SUMMARY:Hertha Sponer College - Advanced Methods Course
DESCRIPTION: Elementary Course on Basic Statistical Methods  This lecture series intends to serve as an introduction to statistical data analysis\,  with emphasis on the data analysis methods that are useful in labs related to the MBExC Cluster of Excellence. Topics will cover statistical paradoxes\,  graphical methods (including histograms\,  box plot\,  Q-Q[..]\nhttps://mbexc.de/events/hertha-sponer-college-advanced-methods-course-copy/var/ri-1.l-L1
URL:https://mbexc.de/events/hertha-sponer-college-advanced-methods-course-copy/var/ri-1.l-L1
END:VEVENT
END:VCALENDAR