BEGIN:VCALENDAR
VERSION:2.0
PRODID:-//eventon.com NONSGML v1.0//EN
BEGIN:VEVENT
UID:69e73388bf7b8
DTSTAMP:20260421T102128
DTSTART:20210325T140000Z
DTEND:20210325T172000Z
TZID:Europe/Berlin
LOCATION:Online 
SUMMARY:Ribbon Synapses Seminar Series 2021
DESCRIPTION: We would like to announce the upcoming Ribbon Synapses Seminar Series (RSSS) 2021\,  an online alternative to the long-running series of Ribbon Synapses Symposia (RSS). The RSS are specialized international conferences that have in the past been held in Göttingen\,  Germany. This year&#8217;s RSSS is jointly organized by the Washington[..]\nhttps://mbexc.de/events/ribbon-synapses-seminar-series-2021/
URL:https://mbexc.de/events/ribbon-synapses-seminar-series-2021/
END:VEVENT
END:VCALENDAR