BEGIN:VCALENDAR
VERSION:2.0
PRODID:-//eventon.com NONSGML v1.0//EN
BEGIN:VEVENT
UID:69ec11fc15624
DTSTAMP:20260425T025940
DTSTART:20210209T160000Z
DTEND:20210209T170000Z
TZID:Europe/Berlin
LOCATION:Online 
SUMMARY:Hertha Sponer College Lecture Series
DESCRIPTION: The Hertha Sponer College Lecture Series is addressed to interested students\,  PhD candidates\,  postdocs\,  and PIs. The overall idea is to fundamentally explain research by providing an overview about the general aims of the six MBExC Research Alliances with special focus on the specific techniques that are developed and applied. The lectures take place on Tuesdays at 5[..]\nhttps://mbexc.de/de/events/hertha-sponer-college-lecture-series-6/
URL:https://mbexc.de/de/events/hertha-sponer-college-lecture-series-6/
END:VEVENT
END:VCALENDAR