BEGIN:VCALENDAR
VERSION:2.0
PRODID:-//eventon.com NONSGML v1.0//EN
BEGIN:VEVENT
UID:69ea3d8518cce
DTSTAMP:20260423T174053
DTSTART:20260511T110000Z
DTEND:20260511T120000Z
TZID:Europe/Berlin
LOCATION:MPI-NAT\,  City Campus Hermann-Rein-Str. 3
SUMMARY:MBExC Lecture
DESCRIPTION: Prof. Mikko Juusola from the University of Sheffield\,  UK will held a talk about &#8220;Synaptic high-frequency jumping&#8221; during the MBExC Lecture on 11 May\,  2026 at 1:00 p.m. at the MPI-NAT City Campus\,  lecture hall\,  Hermann-Rein-Str. 3. Host: Prof. Dr. Martin Göpfert\,  Uni Göttingen Abstract: For centuries\,  from Robert Hooke’s[..]\nhttps://mbexc.de/events/mbexc-lecture-38/
URL:https://mbexc.de/events/mbexc-lecture-38/
END:VEVENT
END:VCALENDAR