BEGIN:VCALENDAR
VERSION:2.0
PRODID:-//eventon.com NONSGML v1.0//EN
BEGIN:VEVENT
UID:69ea3c4562841
DTSTAMP:20260423T173533
DTSTART:20260223T130000Z
DTEND:20260223T140000Z
TZID:Europe/Berlin
LOCATION:MPI-NAT\,  City Campus Hermann-Rein-Str. 3
SUMMARY:MBExC /CIDBN Lecture
DESCRIPTION: Professor Gašper Tkačik\,  PhD from the Institute of Science and Technology Austria (ISTA) will talk about &#8220;Information theory for instructed and self-organized development&#8221; during the MBExC / CIDBN Lecture on February 23rd\,  2026 at 2:00 pm at the lecture hall at the Max Planck Institute for Multidisciplinary Sciences\,  Hermann-Rein-Str. 3.[..]\nhttps://mbexc.de/events/mbexc-cidbn-lecture-3/
URL:https://mbexc.de/events/mbexc-cidbn-lecture-3/
END:VEVENT
END:VCALENDAR