BEGIN:VCALENDAR
VERSION:2.0
PRODID:-//eventon.com NONSGML v1.0//EN
BEGIN:VEVENT
UID:69ea3e1e60631
DTSTAMP:20260423T174326
DTSTART:20251105
DTEND:20251107
TZID:Europe/Berlin
LOCATION:MPI-NAT\,  City Campus Hermann-Rein-Str. 3
SUMMARY:Ribbon Synapses Symposium 2025
DESCRIPTION: We would like to announce the upcoming Ribbon Synapses Symposium (RSS) 2025\,  a specialized international conference to be held in Göttingen\,  Germany\,  from November 5th till 7th\,  2025. The RSS 2025 is organized by the Collaborative Research Centre 1690 and will be hosted at the City Campus of the Max[..]\nhttps://mbexc.de/events/ribbon-synapses-symposium-2025/
URL:https://mbexc.de/events/ribbon-synapses-symposium-2025/
END:VEVENT
END:VCALENDAR