BEGIN:VCALENDAR
VERSION:2.0
PRODID:-//eventon.com NONSGML v1.0//EN
BEGIN:VEVENT
UID:69e5994255090
DTSTAMP:20260420T051058
DTSTART:20250519
DTEND:20250521
TZID:Europe/Berlin
LOCATION:Göttingen Bars 
SUMMARY:Science Festival
DESCRIPTION: Pint of Science Festival Göttingen 19-21 May 2025\,  18:30 Göttingen Bars Pint of Science describes the international (non-profit) organisation of festivals that bring some of the most brilliant scientists to your local pub to discuss their latest research and findings with you. You don&#8217;t need any prior knowledge\,  and this[..]\nhttps://mbexc.de/events/science-festival/
URL:https://mbexc.de/events/science-festival/
END:VEVENT
END:VCALENDAR