BEGIN:VCALENDAR
VERSION:2.0
PRODID:-//eventon.com NONSGML v1.0//EN
BEGIN:VEVENT
UID:69e86be34af10
DTSTAMP:20260422T083411
DTSTART:20240521T151500Z
DTEND:20240521T161500Z
TZID:Europe/Berlin
LOCATION:Lecture Hall MN30 Tammannstr. 4
SUMMARY:MBExC Lecture
DESCRIPTION: Prof. Dr. Nina Hartrampf from the Department of Chemistry\,  University of Zurich\,  Switzerland will give a talk on &#8220;New tools for flow-based peptide and protein synthesis&#8221; during the MBExC Lecture in cooperation with the OC Colloquium on Tuesday\,  21 May\,  2024 at 5:15 p.m. at the lecture hall IV MN 30 (seminar[..]\nhttps://mbexc.de/events/mbexc-lecture-24/
URL:https://mbexc.de/events/mbexc-lecture-24/
END:VEVENT
END:VCALENDAR