BEGIN:VCALENDAR
VERSION:2.0
PRODID:-//eventon.com NONSGML v1.0//EN
BEGIN:VEVENT
UID:69ea40878d99c
DTSTAMP:20260423T175343
DTSTART:20240314T080000Z
DTEND:20240316T120000Z
TZID:Europe/Berlin
LOCATION:MPI-NAT\,  Faßberg-Campus 
SUMMARY:Synapse Symposium 2024
DESCRIPTION: We are happy to announce the upcoming Core2Core Synapse Symposium 2024 from 14th-16th of March 2024 at the Manfred Eigen lecture hall of MPI-NAT Faßberg Campus\,  Am Faßberg 11. Speakers: Yuki Goda\,  Christian Rosenmund\,  Ryuichi Shigemoto\,  Alain Marty\,  Takeshi Sakaba\,  Stefan Hallermann\,  Stephan Sigrist\,  Zoltan Nusser\,  Alexander Walter\,  Reinhard Jahn\, [..]\nhttps://mbexc.de/events/synapse-symposium-2024/
URL:https://mbexc.de/events/synapse-symposium-2024/
END:VEVENT
END:VCALENDAR