BEGIN:VCALENDAR
VERSION:2.0
PRODID:-//eventon.com NONSGML v1.0//EN
BEGIN:VEVENT
UID:69e8c6dca5aa1
DTSTAMP:20260422T150220
DTSTART:20240321T160000Z
DTEND:20240321T170000Z
TZID:Europe/Berlin
LOCATION:library of the Humboldtallee 23 
SUMMARY:MBExC Lecture
DESCRIPTION: Prof. Dr. Chris Meisinger from the Institute for Biochemistry and Molecular Biology\,  University of Freiburg will give a talk on &#8220;Shaping the mitochondrial proteome via signal switches at the import machinery&#8221; during the MBExC Lecture on 21 March\,  2024 at 5 pm at the library of the Humboldtallee 23\,  first[..]\nhttps://mbexc.de/events/mbexc-lecture-22/
URL:https://mbexc.de/events/mbexc-lecture-22/
END:VEVENT
END:VCALENDAR