BEGIN:VCALENDAR
VERSION:2.0
PRODID:-//eventon.com NONSGML v1.0//EN
BEGIN:VEVENT
UID:69ea52a122d0c
DTSTAMP:20260423T191057
DTSTART:20240409T150000Z
DTEND:20240409T160000Z
TZID:Europe/Berlin
LOCATION:MPI-NAT\,  City Campus Hermann-Rein-Str. 3
SUMMARY:Hertha Sponer College Lecture Series
DESCRIPTION: The Hertha Sponer College Lecture Series is addressed to interested students\,  PhD candidates\,  postdocs\,  and PIs. The overall idea is to fundamentally explain research by providing an overview about the general aims of the six MBExC Research Alliances with special focus on the specific techniques that are developed and applied. The lectures take place on Tuesdays at 5[..]\nhttps://mbexc.de/events/hertha-sponer-college-lecture-series-46/
URL:https://mbexc.de/events/hertha-sponer-college-lecture-series-46/
END:VEVENT
END:VCALENDAR