BEGIN:VCALENDAR
VERSION:2.0
PRODID:-//eventon.com NONSGML v1.0//EN
BEGIN:VEVENT
UID:69ead5f68f194
DTSTAMP:20260424T043118
DTSTART:20240130T171500Z
DTEND:20240130T181500Z
TZID:Europe/Berlin
LOCATION:Alte Aula Am Wilhelmsplatz 1
SUMMARY:Öffentliche MBExC Ringvorlesung
DESCRIPTION: The MBExC will present 12 lectures during the Ringvorlesung in the winter semester 2023/2024 for the public. They will be held Tuesdays at 6:15 pm in the Aula am Wilhelmsplatz\,  professionally recorded and later be published via the Youtube channel of the University of Göttingen. The lectures are usually held[..]\nhttps://mbexc.de/events/oeffentliche-mbexc-ringvorlesung/
URL:https://mbexc.de/events/oeffentliche-mbexc-ringvorlesung/
END:VEVENT
END:VCALENDAR