BEGIN:VCALENDAR
VERSION:2.0
PRODID:-//eventon.com NONSGML v1.0//EN
BEGIN:VEVENT
UID:69e89478894f9
DTSTAMP:20260422T112720
DTSTART:20231109T100000Z
DTEND:20231109T110000Z
TZID:Europe/Berlin
LOCATION:small lecture hall at the MPI-NAT City Campus Hermann-Rein-Str.3
SUMMARY:MBExC Lecture
DESCRIPTION: Jung-Bum Shin\,  Ph.D. from the Department of Neuroscience\,  The University of Virginia School of Medicine\,  USA will give a talk about &#8220;The Sensitivity of Auditory Sense and How We Maintain It&#8221; during the MBExC Lecture on November 9th\,  2023 at 11:00 am at the small lecture hall (behind the library)[..]\nhttps://mbexc.de/events/mbexc-lecture-17/
URL:https://mbexc.de/events/mbexc-lecture-17/
END:VEVENT
END:VCALENDAR