BEGIN:VCALENDAR
VERSION:2.0
PRODID:-//eventon.com NONSGML v1.0//EN
BEGIN:VEVENT
UID:69ea43434fbd1
DTSTAMP:20260423T180523
DTSTART:20230522T150000Z
DTEND:20230522T160000Z
TZID:Europe/Berlin
LOCATION:MPI-NAT\,  City Campus Hermann-Rein-Str. 3
SUMMARY:Optogenetics Club Lecture
DESCRIPTION: Dr. Daniel Hillier from the Functional Imaging Unit\,  German Primate Center (DPZ)\,  Göttingen will talk about &#8220;Optogenetics in large-animal models&#8221; Abstract Structure and function of the visual cortex of humans is markedly different from that of mice\,  the latter being the most widely adopted mammalian model species. Some of the[..]\nhttps://mbexc.de/events/optogenetics-club-lecture-10/
URL:https://mbexc.de/events/optogenetics-club-lecture-10/
END:VEVENT
END:VCALENDAR