BEGIN:VCALENDAR
VERSION:2.0
PRODID:-//eventon.com NONSGML v1.0//EN
BEGIN:VEVENT
UID:69e8abfecf77d
DTSTAMP:20260422T130742
DTSTART:20220711T103000Z
DTEND:20220711T113000Z
TZID:Europe/Berlin
LOCATION:MPI-NAT\,  Faßberg-Campus 
SUMMARY:MBExC Lecture
DESCRIPTION: Prof. Dr. Jutta Engel from the Center for Integrative Physiology and Molecular Medicine (CIPMM) at the Saarland University will talk about &#8220;Ca2+ channel complexes in cochlear inner hair cells und further up the auditory pathway&#8221;. Abstract Voltage-gated Ca2+ channels (VGCC) are essential for chemical signal transmission in sensory cells and[..]\nhttps://mbexc.de/events/mbexc-lecture-4/
URL:https://mbexc.de/events/mbexc-lecture-4/
END:VEVENT
END:VCALENDAR